BEGIN:VCALENDAR
BEGIN:VEVENT
SUMMARY:Workshop: Self-Hosting
DTSTART:20190418T160000Z
DTEND:20190418T180000Z
DTSTAMP:20260420T161633Z
UID:2019/04/18/workshop-self-hosting
DESCRIPTION:Deine Daten gehören Dir! Selber hosten leicht gemacht.\n\nEin
  Workshop der Free Software Foundation Europe - Lokalgruppe Zürich\n\nEs 
 gibt keine Cloud\, sondern nur die Computer anderer Leute! Sehen Sie\, wie
  Sie Ihre eigene Cloud betreiben\, um Fotos oder Dateien zu speichern und 
 zu teilen\, einen Blog oder eine Website selbst zu betreiben und Kontakte 
 und Kalender zentral zu verwalten.\n\nKostenlose Anmeldung: https://www.di
 gicomp.ch/events/it-professionals-events/referat-free-software-foundation-
 europe-fsfe-self-hosting
LOCATION:Digicomp Academy\, Limmatstrasse 50\, 8005 Zürich\, Zürich\, Sc
 hweiz\, 8.53555\;47.38198
END:VEVENT
END:VCALENDAR
