BEGIN:VCALENDAR
BEGIN:VEVENT
SUMMARY:Linux-Microsoft-Club
DTSTART:20140907T120000Z
DTEND:20140907T150000Z
DTSTAMP:20260421T071759Z
UID:2014/09/07/linux-microsoft-club
DESCRIPTION:Ziel des Linux-Microsoft-Club ist es\, die Nutzung um das frei
  verfügbare Linux zu fördern und allen\, die sich mit Linux (Ubuntu\, Kn
 oppix\, OpenSUSE) und Windows (Vista\, Win 7 und 8) befassen möchten\, Hi
 lfestellungen zu geben.\n\nDie Zielgruppe ist nicht speziell auf computere
 rfahrene Personen ausgerichtet\, sondern orientiert sich ebenso an Anfäng
 er auf diesem Gebiet. Ein besonderes Augenmerk liegt dabei im Bereich Seni
 orenarbeit und Jugendförderung\, um die Kenntnisse und den Umgang mit dem
  Computer im Allgemeinen näher zu bringen.\n\nDas Clubtreffen findet rege
 lmäßig jeden 1. und 3. Sonntag ab 14:00 bis ca. 17:00 Uhr im Haus der Be
 gegnung (HadeBe) in Castrop-Rauxel\, Lange Str. 51 statt.\n\nWeitere Infor
 mationen auf LMC-Castrop.de
LOCATION:Haus der Begegnung (HadeBe) Lange Str. 51\, 44579 Castrop-Rauxel\
 , 51.5842\;7.31039
END:VEVENT
END:VCALENDAR
