BEGIN:VCALENDAR
BEGIN:VEVENT
SUMMARY:LinuxOnAir #29
DTSTART:20131214T190500Z
DTEND:20131214T203500Z
DTSTAMP:20260421T075926Z
UID:2013/12/14/linuxonair-29
DESCRIPTION:Am 14. Dezember wird Live auf Youtube und der Website von Linu
 xOnAir\, die 29. Show gesendet. Diesmal wird sich Mageia etwas genauer ang
 eschaut\, und über das Owncloud Update 6 und vieles mehr geredet.\n\nLos 
 gehts wie immer am Samstag um 20.05 auf den Youtube Kanal von LinuxOnAir o
 der der Website von LinuxOnAir.\n\n[http://www.youtube.com/user/linuxonair
  Youtube] [http://linux-onair.de/live/ Live Stream auf der Website]
LOCATION:
END:VEVENT
END:VCALENDAR
